BEGIN:VCALENDAR
VERSION:2.0
PRODID:gruene-wasserburg.de
METHOD:PUBLISH
BEGIN:VTIMEZONE
TZID:Europe/Berlin
X-LIC-LOCATION:Europe/Berlin
BEGIN:DAYLIGHT
TZOFFSETFROM:+0100
TZOFFSETTO:+0200
TZNAME:CEST
DTSTART:19700329T020000
RRULE:FREQ=YEARLY;INTERVAL=1;BYDAY=-1SU;BYMONTH=3
END:DAYLIGHT
BEGIN:STANDARD
TZOFFSETFROM:+0200
TZOFFSETTO:+0100
TZNAME:CET
DTSTART:19701025T030000
RRULE:FREQ=YEARLY;INTERVAL=1;BYDAY=-1SU;BYMONTH=10
END:STANDARD
END:VTIMEZONE
BEGIN:VEVENT
UID:794b5418c82742abfab5d1fa5285442e@gruene-wasserburg.de
URL;VALUE=URI:https://gruene-wasserburg.de/termine/tschernobyl-40-jahre-d
 anach-reise-ins-nukleare-absurdistan/
LOCATION:
SUMMARY:Tschernobyl 40 Jahre danach – Reise ins nukleare Absurdistan
DESCRIPTION;ALTREP="data:text/html,%0A%3Cp%3EEin%20Vortrag%20von%20Martin
 %20Pavl%C3%8Dk%20M.A.%3C%2Fp%3E%0A":Ein Vortrag von Martin PavlÍk M.A.
CLASS:PUBLIC
DTSTART;TZID=Europe/Berlin:20260519T190000
DTEND;TZID=Europe/Berlin:20260519T210000
DTSTAMP:20260424T114234
END:VEVENT
END:VCALENDAR