BEGIN:VCALENDAR
VERSION:2.0
PRODID:gruene-wasserburg.de
METHOD:PUBLISH
BEGIN:VTIMEZONE
TZID:Europe/Berlin
X-LIC-LOCATION:Europe/Berlin
BEGIN:DAYLIGHT
TZOFFSETFROM:+0100
TZOFFSETTO:+0200
TZNAME:CEST
DTSTART:19700329T020000
RRULE:FREQ=YEARLY;INTERVAL=1;BYDAY=-1SU;BYMONTH=3
END:DAYLIGHT
BEGIN:STANDARD
TZOFFSETFROM:+0200
TZOFFSETTO:+0100
TZNAME:CET
DTSTART:19701025T030000
RRULE:FREQ=YEARLY;INTERVAL=1;BYDAY=-1SU;BYMONTH=10
END:STANDARD
END:VTIMEZONE
BEGIN:VEVENT
UID:acf19a18bafc6f4801f6b51993021e8b@gruene-wasserburg.de
URL;VALUE=URI:https://gruene-wasserburg.de/termine/wasserburger-gruene-au
 f-dem-fruehlingsfest/
LOCATION:Festplatz Wasserburg
SUMMARY:Wasserburger Grüne auf dem Frühlingsfest
DESCRIPTION;ALTREP="data:text/html,%0A%3Cp%3EWir%20Wasserburger%20Gr%C3%B
 Cnen%20gehen%20zusammen%20aufs%20Fr%C3%BChlingsfest.%20%3Cbr%3EReserviert
 %20ist%20der%20Tisch%2002%20in%20der%20Box%201.%20%3C%2Fp%3E%0A":Wir Wass
 erburger Grünen gehen zusammen aufs Frühlingsfest. Reserviert ist der T
 isch 02 in der Box 1.
CLASS:PUBLIC
DTSTART;TZID=Europe/Berlin:20260513T183000
DTEND;TZID=Europe/Berlin:20260513T210000
DTSTAMP:20260424T114402
END:VEVENT
END:VCALENDAR